BEGIN:VCALENDAR
VERSION:2.0
PRODID:-//The BRIGHT - ECPv4.2.5//NONSGML v1.0//EN
CALSCALE:GREGORIAN
METHOD:PUBLISH
X-WR-CALNAME:The BRIGHT
X-ORIGINAL-URL:https://www.thebright.co.th
X-WR-CALDESC:Events for The BRIGHT
BEGIN:VEVENT
DTSTART;TZID=UTC+0:20241128T100000
DTEND;TZID=UTC+0:20241202T210000
DTSTAMP:20260425T002729
CREATED:20241030T085021
LAST-MODIFIED:20241030T085337
UID:10901-1732788000-1733173200@www.thebright.co.th
SUMMARY:OTOP
DESCRIPTION:"OTOP CITY 2024" ชิม ช้อป ใช้สินค้างาน OTOP จากทั่วประเทศ เรายกมาที่ เดอะไบรท์ พระราม 2 ที่เดียวเท่านั้น พบกับ มินิคอนเสริ์ต นักร้องเงาเสียงได้ที่งานนี้เท่านั้น!! วันที่ ๒๘ พฤศจิกายน - ๒ ธันวาคม ๒๕๖๗ เดอะไบรท์ คอมมูนิตี้มอลล์ พระราม 2 ณ ลานกิจกรรม ชั้น G
URL:https://www.thebright.co.th/event/otop-5/
LOCATION:15/6 Rama2 Rd.\,\, Thakarm\, Bangkhunthian\,\, Bangkok \, 10110\, Thailand
CATEGORIES:2024
ATTACH;FMTTYPE=image/jpeg:https://www.thebright.co.th/wp-content/uploads/OTOP-City-2024.jpg
END:VEVENT
END:VCALENDAR