BEGIN:VCALENDAR
VERSION:2.0
PRODID:-//The BRIGHT - ECPv4.2.5//NONSGML v1.0//EN
CALSCALE:GREGORIAN
METHOD:PUBLISH
X-WR-CALNAME:The BRIGHT
X-ORIGINAL-URL:https://www.thebright.co.th
X-WR-CALDESC:Events for The BRIGHT
BEGIN:VEVENT
DTSTART;TZID=UTC+0:20241118T100000
DTEND;TZID=UTC+0:20241201T210000
DTSTAMP:20260424T131257
CREATED:20241114T070347
LAST-MODIFIED:20241119T031052
UID:10932-1731924000-1733086800@www.thebright.co.th
SUMMARY:LAMPTAN Outlet Sale
DESCRIPTION:"LAMPTAN OUTLET SALE"  ขนขบวนทัพ สินค้า ลด กระหน่ำ สุดพิเศษ!! ห้ามพลาดตั้งแต่ วันที่ 18 พฤศจิกายน - 1 ธันวาคม 2567 ลดสูงสุด 80% SALE ณ ลานกิจกรรม ชั้น 1 เดอะไบรท์ คอมมูนิตี้มอลล์ พระราม 2 โทร. 0-2451-2968\, 086-340-8213
URL:https://www.thebright.co.th/event/lamptan-outlet-sale-2/
LOCATION:15/6 Rama2 Rd.\,\, Thakarm\, Bangkhunthian\,\, Bangkok \, 10110\, Thailand
CATEGORIES:2024
ATTACH;FMTTYPE=image/jpeg:https://www.thebright.co.th/wp-content/uploads/thebright-outlet-sale_nov-2024-pc-main-banner-1170x658px_update.jpg
END:VEVENT
END:VCALENDAR