BEGIN:VCALENDAR
VERSION:2.0
PRODID:-//The BRIGHT - ECPv4.2.5//NONSGML v1.0//EN
CALSCALE:GREGORIAN
METHOD:PUBLISH
X-WR-CALNAME:The BRIGHT
X-ORIGINAL-URL:https://www.thebright.co.th
X-WR-CALDESC:Events for The BRIGHT
BEGIN:VEVENT
DTSTART;TZID=UTC+0:20241116T170000
DTEND;TZID=UTC+0:20241116T210000
DTSTAMP:20260422T004052
CREATED:20241031T040226
LAST-MODIFIED:20241031T040320
UID:10920-1731776400-1731790800@www.thebright.co.th
SUMMARY:Loy Krathong Day
DESCRIPTION:"THE BRIGHT CHILL MARKET ชวนลอยกระทง ดูหนังกลางห้าง" วันที่ 16 พฤศจิกายน 2567 เวลา 17.00 - 21.00 น. ณ ลานกิจกรรม ชั้น G (ลานน้ำพุ) พร้อมชิม ช้อป ตลาดนัด Chill กันได้ทุกวันศุกร์ - อาทิตย์ สิ้นเดือน 
URL:https://www.thebright.co.th/event/loy-krathong-day/
LOCATION:15/6 Rama2 Rd.\,\, Thakarm\, Bangkhunthian\,\, Bangkok \, 10110\, Thailand
CATEGORIES:2024
ATTACH;FMTTYPE=image/jpeg:https://www.thebright.co.th/wp-content/uploads/Chill-Market-Nov2024.jpg
END:VEVENT
BEGIN:VEVENT
DTSTART;TZID=UTC+0:20241115T100000
DTEND;TZID=UTC+0:20241117T200000
DTSTAMP:20260422T004052
CREATED:20241031T034736
LAST-MODIFIED:20241031T035456
UID:10913-1731664800-1731873600@www.thebright.co.th
SUMMARY:Chill Market
DESCRIPTION:"THE BRIGHT CHILL MARKET & LOY KRATHONG DAY"เชิญชวนทำกระทง และเดินช้อป ชิม ตลาดนัดสุด Chill วันที่ 15-17 พฤศจิกายน 2567 ณ ลานกิจกรรม ชั้น G เวลา 10.00 - 20.00 น. เดอะไบรท์ คอมมูนิตี้มอลล์ พระราม 2
URL:https://www.thebright.co.th/event/chill-market-10/
LOCATION:15/6 Rama2 Rd.\,\, Thakarm\, Bangkhunthian\,\, Bangkok \, 10110\, Thailand
CATEGORIES:2024
ATTACH;FMTTYPE=image/jpeg:https://www.thebright.co.th/wp-content/uploads/Loy-Krathong67.jpg
END:VEVENT
BEGIN:VEVENT
DTSTART;TZID=UTC+0:20241116T110000
DTEND;TZID=UTC+0:20241117T170000
DTSTAMP:20260422T004052
CREATED:20241030T083218
LAST-MODIFIED:20241030T083541
UID:10895-1731754800-1731862800@www.thebright.co.th
SUMMARY:The Bright Kids
DESCRIPTION:"THE BRIGHT KIDS" สร้างสรรค์ ชวนคุณหนู ๆ มาร่วมกิจกรรม Kids สร้างสรรค์ สนุกไปกับ Workshop สร้างสรรค์พวงกุญแจ ระบายสีถุงผ้า ระบายสีกังหันกระดาษ ศิลปะจากทรายสี พบกันวันที่ 16-17 พฤศจิกายน 2567 เวลา 11.00 - 17.00 น. ณ ลานกิจกรรม ชั้น G เดอะไบรท์ คอมมูนิตี้มอลล์ พระราม 2
URL:https://www.thebright.co.th/event/the-bright-kids/
LOCATION:15/6 Rama2 Rd.\,\, Thakarm\, Bangkhunthian\,\, Bangkok \, 10110\, Thailand
CATEGORIES:2024
ATTACH;FMTTYPE=image/jpeg:https://www.thebright.co.th/wp-content/uploads/Kids_2024.jpg
END:VEVENT
BEGIN:VEVENT
DTSTART;TZID=UTC+0:20241115T100000
DTEND;TZID=UTC+0:20241124T200000
DTSTAMP:20260422T004052
CREATED:20241030T082037
LAST-MODIFIED:20241030T082151
UID:10892-1731664800-1732478400@www.thebright.co.th
SUMMARY:Thai Wacoal Grand Sale
DESCRIPTION:"THAI WACOAL GRAND SALE" วันที่ 15-24 พฤศจิกายน 2024 เวลา 10.00 - 20.00 น. ลดทุกชิ้น ช้อปฟินทั้งงาน พบกับสินค้าแบรนด์ชั้นนำระดับประเทศ ที่เดอะไบรท์ คอมมูนิตี้มอลล์ พระราม 2 ณ ลานกิจกรรม ชั้น G
URL:https://www.thebright.co.th/event/thai-wacoal-grand-sale/
LOCATION:15/6 Rama2 Rd.\,\, Thakarm\, Bangkhunthian\,\, Bangkok \, 10110\, Thailand
CATEGORIES:2024
ATTACH;FMTTYPE=image/jpeg:https://www.thebright.co.th/wp-content/uploads/Thai-Wacoal67.jpg
END:VEVENT
END:VCALENDAR