BEGIN:VCALENDAR
VERSION:2.0
PRODID:-//The BRIGHT - ECPv4.2.5//NONSGML v1.0//EN
CALSCALE:GREGORIAN
METHOD:PUBLISH
X-WR-CALNAME:The BRIGHT
X-ORIGINAL-URL:https://www.thebright.co.th
X-WR-CALDESC:Events for The BRIGHT
BEGIN:VEVENT
DTSTART;TZID=UTC+0:20240727T110000
DTEND;TZID=UTC+0:20240728T200000
DTSTAMP:20260421T214350
CREATED:20240628T090437
LAST-MODIFIED:20240628T090639
UID:10772-1722078000-1722196800@www.thebright.co.th
SUMMARY:Basketball Match
DESCRIPTION:"THE BRIGHT RAIN 3x3 BASKETBALL EVENT" พบกับการแข่งขันบาสเกตบอล รุ่น U16\, U19\, U21 วันที่ 27-28 กรกฎาคม 2567 เวลา 11.00 - 20.00 น. "NEW BASKETBALL COURT" ณ สนามบาส ชั้น 7 (The Bright Playground) เดอะไบรท์ คอมมูนิตี้มอลล์ พระราม 2
URL:https://www.thebright.co.th/event/%e0%b8%babasketball-match/
LOCATION:15/6 Rama2 Rd.\,\, Thakarm\, Bangkhunthian\,\, Bangkok \, 10110\, Thailand
CATEGORIES:2024
ATTACH;FMTTYPE=image/jpeg:https://www.thebright.co.th/wp-content/uploads/Basketball-Match.jpg
END:VEVENT
BEGIN:VEVENT
DTSTART;TZID=UTC+0:20240727T130000
DTEND;TZID=UTC+0:20240729T210000
DTSTAMP:20260421T214350
CREATED:20240628T085838
LAST-MODIFIED:20240628T085842
UID:10770-1722085200-1722286800@www.thebright.co.th
SUMMARY:Chill Market
DESCRIPTION:"THE BRIGHT CHILL & MARKET" พบกับสินค้านานาชนิดและเพลิดเพลินไปกับเสียงดนตรี วันที่ 27-29 กรกฎาคม 2567 เวลา 13.00-21.00 น. Chill กันได้ทุกวันศุกร์-เสาร์ และวันอาทิตย์ สิ้นเดือน! ณ ลานกิจกรรม ชั้น G เดอะไบรท์ คอมมูนิตี้มอลล์ พระราม 2
URL:https://www.thebright.co.th/event/chill-market-6/
LOCATION:15/6 Rama2 Rd.\,\, Thakarm\, Bangkhunthian\,\, Bangkok \, 10110\, Thailand
CATEGORIES:2024
ATTACH;FMTTYPE=image/jpeg:https://www.thebright.co.th/wp-content/uploads/Chill-Market-July2024.jpg
END:VEVENT
BEGIN:VEVENT
DTSTART;TZID=UTC+0:20240727T110000
DTEND;TZID=UTC+0:20240728T200000
DTSTAMP:20260421T214350
CREATED:20240628T085250
LAST-MODIFIED:20240628T085527
UID:10766-1722078000-1722196800@www.thebright.co.th
SUMMARY:Balance Bike
DESCRIPTION:"THE BRIGHT PRESENT BALANCE BIKE" พบกับการแข่งขัน จักรยานขาไถ ชมหนู ๆ โชว์ฝีมือกับ "Balance Bike" วันที่ 27-28 กรกฎาคม 2567 เวลา 11.00 - 20.00 น. ณ ลานกิจกรรม ชั้น 1 เดอะไบรท์ คอมมูนิตี้มอลล์ พระราม 2
URL:https://www.thebright.co.th/event/%e0%b8%babalance-bike/
LOCATION:15/6 Rama2 Rd.\,\, Thakarm\, Bangkhunthian\,\, Bangkok \, 10110\, Thailand
CATEGORIES:2024
ATTACH;FMTTYPE=image/jpeg:https://www.thebright.co.th/wp-content/uploads/Balance-Bike.jpg
END:VEVENT
BEGIN:VEVENT
DTSTART;TZID=UTC+0:20240715T100000
DTEND;TZID=UTC+0:20240731T200000
DTSTAMP:20260421T214350
CREATED:20240628T070802
LAST-MODIFIED:20240628T070851
UID:10760-1721037600-1722456000@www.thebright.co.th
SUMMARY:Mid Year Sale
DESCRIPTION:"THE BRIGHT MID YEAR SALE"  วันที่ 15-31 กรกฎาคม 2567 เวลา 10.00 - 20.00 น. พบกับแบรนด์สินค้า LAMPTAN\, TULIP\, Jessica\, boxbox\, abso
URL:https://www.thebright.co.th/event/mid-year-sale/
LOCATION:15/6 Rama2 Rd.\,\, Thakarm\, Bangkhunthian\,\, Bangkok \, 10110\, Thailand
CATEGORIES:2024
ATTACH;FMTTYPE=image/jpeg:https://www.thebright.co.th/wp-content/uploads/Mid-Year-Sale.jpg
END:VEVENT
BEGIN:VEVENT
DTSTART;TZID=UTC+0:20240701T100000
DTEND;TZID=UTC+0:20240731T200000
DTSTAMP:20260421T214350
CREATED:20240628T064917
LAST-MODIFIED:20250625T104433
UID:10754-1719828000-1722456000@www.thebright.co.th
SUMMARY:LAMPTAN Outlet Sale
DESCRIPTION:NLAMPTAN ลดกระหน่ำ สุดพิเศษ!! "OUTLET SALE"  ห้ามพลาดเฉพาะ  1-31 กรกฎาคม 2567 นี้  พบกับสินค้าราคาพิเศษลดสูงสุด 80% ชั้น G (ติดกับฟู้ดแลนด์) เดอะไบรท์ คอมมูนิตี้มอลล์ พระราม 2
URL:https://www.thebright.co.th/event/lamptan-outlet-sale/
LOCATION:15/6 Rama2 Rd.\,\, Thakarm\, Bangkhunthian\,\, Bangkok \, 10110\, Thailand
CATEGORIES:2024
ATTACH;FMTTYPE=image/gif:https://www.thebright.co.th/wp-content/uploads/Lamptan-Outlet-Sale.gif
END:VEVENT
END:VCALENDAR