BEGIN:VCALENDAR
VERSION:2.0
PRODID:-//The BRIGHT - ECPv4.2.5//NONSGML v1.0//EN
CALSCALE:GREGORIAN
METHOD:PUBLISH
X-WR-CALNAME:The BRIGHT
X-ORIGINAL-URL:https://www.thebright.co.th
X-WR-CALDESC:Events for The BRIGHT
BEGIN:VEVENT
DTSTART;TZID=UTC+0:20230214T160000
DTEND;TZID=UTC+0:20230214T180000
DTSTAMP:20260425T022551
CREATED:20230206T093955
LAST-MODIFIED:20230206T094324
UID:10037-1676390400-1676397600@www.thebright.co.th
SUMMARY:Valentine Day
DESCRIPTION:"แชะ & แชร์ & เช็คอิน"  วันที่ 14 กุมภาพันธ์ 2566 เวลา 16.00 - 18.00 น. พบกันที่ "ลานกิจกรรม ชั้น G (หน้าร้านสุกี้นินจา)" รับสิทธิ์วาดภาพเหมือน จากโรงเรียน Colorize ลุ้นรับ Gift Voucher ส่วนลดจากร้านค้าภายในศูนย์อีกมากมาย หมายเหตุ : ของรางวัลมีจำนวนจำกัด
URL:https://www.thebright.co.th/event/valentine-day/
LOCATION:15/6 Rama2 Rd.\,\, Thakarm\, Bangkhunthian\,\, Bangkok \, 10110\, Thailand
CATEGORIES:2023
ATTACH;FMTTYPE=image/jpeg:https://www.thebright.co.th/wp-content/uploads/Valentine-2023.jpg
END:VEVENT
END:VCALENDAR