BEGIN:VCALENDAR
VERSION:2.0
PRODID:-//The BRIGHT - ECPv4.2.5//NONSGML v1.0//EN
CALSCALE:GREGORIAN
METHOD:PUBLISH
X-WR-CALNAME:The BRIGHT
X-ORIGINAL-URL:https://www.thebright.co.th
X-WR-CALDESC:Events for The BRIGHT
BEGIN:VEVENT
DTSTART;TZID=UTC+0:20241214T110000
DTEND;TZID=UTC+0:20241215T170000
DTSTAMP:20260420T140859
CREATED:20241202T030315
LAST-MODIFIED:20241202T030318
UID:10953-1734174000-1734282000@www.thebright.co.th
SUMMARY:The Bright Kids
DESCRIPTION:"THE BRIGHT KIDS" สร้างสรรค์ ชวนคุณหนู ๆ มาร่วมกิจกรรม Kids สร้างสรรค์ สนุกไปกับ Workshop สร้างสรรค์พวงกุญแจ ระบายสีถุงผ้า ระบายสีกังหันกระดาษ ศิลปะจากทรายสี สร้างสรรค์การแต่งหน้าคุกกี้ พบกันวันที่ 14-15 ธันวาคม 2567 เวลา 11.00 - 17.00 น. ณ ลานกิจกรรม ชั้น G เดอะไบรท์ คอมมูนิตี้มอลล์ พระราม 2
URL:https://www.thebright.co.th/event/the-bright-kids-2/
LOCATION:15/6 Rama2 Rd.\,\, Thakarm\, Bangkhunthian\,\, Bangkok \, 10110\, Thailand
CATEGORIES:2024
ATTACH;FMTTYPE=image/jpeg:https://www.thebright.co.th/wp-content/uploads/Thebright-Kids_Dec2024.jpg
END:VEVENT
END:VCALENDAR