BEGIN:VCALENDAR
VERSION:2.0
PRODID:-//The BRIGHT - ECPv4.2.5//NONSGML v1.0//EN
CALSCALE:GREGORIAN
METHOD:PUBLISH
X-WR-CALNAME:The BRIGHT
X-ORIGINAL-URL:https://www.thebright.co.th
X-WR-CALDESC:Events for The BRIGHT
BEGIN:VEVENT
DTSTART;TZID=UTC+0:20240315T100000
DTEND;TZID=UTC+0:20240331T210000
DTSTAMP:20260422T035630
CREATED:20240304T065416
LAST-MODIFIED:20240307T024643
UID:10580-1710496800-1711918800@www.thebright.co.th
SUMMARY:THE BRIGHT 9th Anniversary
DESCRIPTION:"BRIGHT LIGHT" พบกันวันที่ 15-31 มีนาคม 2567 "ฉลองเดอะไบรท์ 9 ปี (9th Year Anniversary Celebration)" พร้อมรับส่วนลดสูงสุด 80%  งานนี้ จัดหนัก จัดเต็ม!! พบกับการฉลอง สุดยิ่งใหญ่ตระการตา กับการแสดงไฟอลังการและจุดถ่ายรูปสุดชิค
URL:https://www.thebright.co.th/event/the-bright-9th-anniversary/
LOCATION:15/6 Rama2 Rd.\,\, Thakarm\, Bangkhunthian\,\, Bangkok \, 10110\, Thailand
CATEGORIES:2024
ATTACH;FMTTYPE=image/jpeg:https://www.thebright.co.th/wp-content/uploads/9year-Anniversary.jpg
END:VEVENT
END:VCALENDAR