BEGIN:VCALENDAR
VERSION:2.0
PRODID:-//The BRIGHT - ECPv4.2.5//NONSGML v1.0//EN
CALSCALE:GREGORIAN
METHOD:PUBLISH
X-WR-CALNAME:The BRIGHT
X-ORIGINAL-URL:https://www.thebright.co.th
X-WR-CALDESC:Events for The BRIGHT
BEGIN:VEVENT
DTSTART;TZID=UTC+0:20201219T143000
DTEND;TZID=UTC+0:20201219T210000
DTSTAMP:20260424T195433
CREATED:20201125T064124
LAST-MODIFIED:20201201T042918
UID:8582-1608388200-1608411600@www.thebright.co.th
SUMMARY:Thai Contest
DESCRIPTION:"ธิดางามอย่างไทย ธิดาจำแลงงามอย่างไทย ๒๕๖๓" วันที่ ๑๙-๑๒-๒๕๖๓ เวลา ๑๔.๓๐-๒๑.๐๐ น. เชิญร่วมชม ร่วมเชียร์ ร่วมให้กำลังใจผู้เข้าประกวด ณ ลานกิจกรรม ชั้น 1 ศูนย์การค้าเดอะไบรท์ พระราม 2
URL:https://www.thebright.co.th/event/thai-contest/
LOCATION:15/6 Rama2 Rd.\,\, Thakarm\, Bangkhunthian\,\, Bangkok \, 10110\, Thailand
CATEGORIES:2020
ATTACH;FMTTYPE=image/jpeg:https://www.thebright.co.th/wp-content/uploads/Thai-Contest2020.jpg
END:VEVENT
END:VCALENDAR