BEGIN:VCALENDAR
VERSION:2.0
PRODID:-//The BRIGHT - ECPv4.2.5//NONSGML v1.0//EN
CALSCALE:GREGORIAN
METHOD:PUBLISH
X-WR-CALNAME:The BRIGHT
X-ORIGINAL-URL:https://www.thebright.co.th
X-WR-CALDESC:Events for The BRIGHT
BEGIN:VEVENT
DTSTART;TZID=UTC+0:20230713T100000
DTEND;TZID=UTC+0:20230723T210000
DTSTAMP:20260425T142311
CREATED:20230703T083526
LAST-MODIFIED:20230703T083600
UID:10254-1689242400-1690146000@www.thebright.co.th
SUMMARY:Thai Charm
DESCRIPTION:"เสน่ห์ไทย" วันที่ ๑๓-๒๓ กรกฏาคม ๒๕๖๖ "ช้อปสนุก ชิมอร่อย" กับหลากหลายเมนูอาหารและขนมของไทย พร้อมเพลิดเพลินไปกับการแสดงดนตรีและนาฎศิลป์ไทย ณ ลานกิจกรรม ชั้น G  เดอะไบรท์ คอมมูนิตี้มอลล์ พระราม 2
URL:https://www.thebright.co.th/event/thai-charm/
LOCATION:15/6 Rama2 Rd.\,\, Thakarm\, Bangkhunthian\,\, Bangkok \, 10110\, Thailand
CATEGORIES:2023
ATTACH;FMTTYPE=image/jpeg:https://www.thebright.co.th/wp-content/uploads/Thai-Charm.jpg
END:VEVENT
END:VCALENDAR