BEGIN:VCALENDAR
VERSION:2.0
PRODID:-//The BRIGHT - ECPv4.2.5//NONSGML v1.0//EN
CALSCALE:GREGORIAN
METHOD:PUBLISH
X-WR-CALNAME:The BRIGHT
X-ORIGINAL-URL:https://www.thebright.co.th
X-WR-CALDESC:Events for The BRIGHT
BEGIN:VEVENT
DTSTART;TZID=UTC+0:20241109T100000
DTEND;TZID=UTC+0:20241110T210000
DTSTAMP:20260422T020318
CREATED:20241030T081105
LAST-MODIFIED:20241030T081208
UID:10889-1731146400-1731272400@www.thebright.co.th
SUMMARY:TAMIYA
DESCRIPTION:"The Bright TAMIYA Mini 4WD Bangkok Challenge TAMIYA 2024" วันที่ 9-10 พฤศจิกายน 2567 เวลา 10.00 - 21.00 น. โคตรวิ่ง โคตรซิ่ง มันส์แซตต้องไม่พลาด!! กับกิจกรรมแข่งรถทามิย่า เดอะไบรท์ คอมมูนิตี้มอลล์ พระราม 2 ณ พื้นที่ลานกิจกรรม ชั้น 1
URL:https://www.thebright.co.th/event/tamiya-2/
LOCATION:15/6 Rama2 Rd.\,\, Thakarm\, Bangkhunthian\,\, Bangkok \, 10110\, Thailand
CATEGORIES:2024
ATTACH;FMTTYPE=image/jpeg:https://www.thebright.co.th/wp-content/uploads/Tamiya_Nov67.jpg
END:VEVENT
END:VCALENDAR