BEGIN:VCALENDAR
VERSION:2.0
PRODID:-//The BRIGHT - ECPv4.2.5//NONSGML v1.0//EN
CALSCALE:GREGORIAN
METHOD:PUBLISH
X-WR-CALNAME:The BRIGHT
X-ORIGINAL-URL:https://www.thebright.co.th
X-WR-CALDESC:Events for The BRIGHT
BEGIN:VEVENT
DTSTART;TZID=UTC+0:20230303T100000
DTEND;TZID=UTC+0:20230306T210000
DTSTAMP:20260425T022443
CREATED:20230303T024609
LAST-MODIFIED:20230303T024738
UID:10084-1677837600-1678136400@www.thebright.co.th
SUMMARY:Summer
DESCRIPTION:"Welcome Summer" ช้อปโปรสุดปังต้อนรับลมร้อน ยกขบวนสินค้าแบรนด์เนม ตลอดเดือนมีนาคมนี้ เท่านั้น!! ณ บริเวณลานกิจกรรม ชั้น G วันที่ 3-6 มีนาคม 2566 พบกับกิจกรรม Lucky Spin เพียงนำใบเสร็จที่มียอดช้อป 500 บาท รับสิทธิ์หมุนวงล้อ รับคูปองส่วนลดจากร้านค้ามากมายสูงสุดมูลค่า 5\,000 บาท บริเวณด้านหน้าอาคาร C เดอะไบรท์ คอมมูนิตี้มอลล์ 
URL:https://www.thebright.co.th/event/summer/
LOCATION:15/6 Rama2 Rd.\,\, Thakarm\, Bangkhunthian\,\, Bangkok \, 10110\, Thailand
CATEGORIES:2023
ATTACH;FMTTYPE=image/jpeg:https://www.thebright.co.th/wp-content/uploads/Summer-1.jpg
END:VEVENT
END:VCALENDAR