BEGIN:VCALENDAR
VERSION:2.0
PRODID:-//The BRIGHT - ECPv4.2.5//NONSGML v1.0//EN
CALSCALE:GREGORIAN
METHOD:PUBLISH
X-WR-CALNAME:The BRIGHT
X-ORIGINAL-URL:https://www.thebright.co.th
X-WR-CALDESC:Events for The BRIGHT
BEGIN:VEVENT
DTSTART;TZID=UTC+0:20220901T100000
DTEND;TZID=UTC+0:20220915T210000
DTSTAMP:20260424T170342
CREATED:20220831T024858
LAST-MODIFIED:20220831T025001
UID:9859-1662026400-1663275600@www.thebright.co.th
SUMMARY:Shop My Style
DESCRIPTION:"The Bright Shop My Style" พบกับบูธขายอาหาร เสื้อผ้า ของใช้หลากหลายในแบบ Bright Style วันที่ 1-15 กันยายน 2565 บริเวณลานกิจกรรม หน้า Foodland
URL:https://www.thebright.co.th/event/shop-my-style/
LOCATION:15/6 Rama2 Rd.\,\, Thakarm\, Bangkhunthian\,\, Bangkok \, 10110\, Thailand
CATEGORIES:2022
ATTACH;FMTTYPE=image/jpeg:https://www.thebright.co.th/wp-content/uploads/Shop-My-Style.jpg
END:VEVENT
END:VCALENDAR