BEGIN:VCALENDAR
VERSION:2.0
PRODID:-//The BRIGHT - ECPv4.2.5//NONSGML v1.0//EN
CALSCALE:GREGORIAN
METHOD:PUBLISH
X-WR-CALNAME:The BRIGHT
X-ORIGINAL-URL:https://www.thebright.co.th
X-WR-CALDESC:Events for The BRIGHT
BEGIN:VEVENT
DTSTART;TZID=UTC+0:20231208T100000
DTEND;TZID=UTC+0:20231211T200000
DTSTAMP:20260422T085339
CREATED:20231130T083931
LAST-MODIFIED:20231130T084016
UID:10474-1702029600-1702324800@www.thebright.co.th
SUMMARY:Shop and Chill
DESCRIPTION:"THE BRIGHT SHOP & CHILL" วันที่ 8 - 11 ธันวาคม 2023 เวลา 10.00 - 20.00 น. พร้อม Chill ไปกับเสียงดนตรี FOLKSONG ทุกวัน เวลา 11.00 - 15.00 น. ณ ลานกิจกรรม ชั้น G
URL:https://www.thebright.co.th/event/shop-and-chill-2/
LOCATION:15/6 Rama2 Rd.\,\, Thakarm\, Bangkhunthian\,\, Bangkok \, 10110\, Thailand
CATEGORIES:2023
ATTACH;FMTTYPE=image/jpeg:https://www.thebright.co.th/wp-content/uploads/Shop-Chill.jpg
END:VEVENT
END:VCALENDAR