BEGIN:VCALENDAR
VERSION:2.0
PRODID:-//The BRIGHT - ECPv4.2.5//NONSGML v1.0//EN
CALSCALE:GREGORIAN
METHOD:PUBLISH
X-WR-CALNAME:The BRIGHT
X-ORIGINAL-URL:https://www.thebright.co.th
X-WR-CALDESC:Events for The BRIGHT
BEGIN:VEVENT
DTSTART;TZID=UTC+0:20220624T100000
DTEND;TZID=UTC+0:20220703T200000
DTSTAMP:20260424T141117
CREATED:20220613T103943
LAST-MODIFIED:20220614T105455
UID:9724-1656064800-1656878400@www.thebright.co.th
SUMMARY:Shoes & Sale
DESCRIPTION:"Shoes and Accessories Sale 2022" วันที่ 24 มิ.ย. - 3 ก.ค. 65 เวลา 10.00 - 20.00 น. รองเท้า รองเท้าเด็ก อุปกรณ์กีฬาชั้นนำ เสื้อผ้าแฟชั่นจากแบรนด์ดัง จัดโปร ลดแรง สต๊อกแน่น!
URL:https://www.thebright.co.th/event/shoes-sale/
LOCATION:15/6 Rama2 Rd.\,\, Thakarm\, Bangkhunthian\,\, Bangkok \, 10110\, Thailand
CATEGORIES:2022
ATTACH;FMTTYPE=image/jpeg:https://www.thebright.co.th/wp-content/uploads/Shoes-Sale_2022.jpg
END:VEVENT
END:VCALENDAR