BEGIN:VCALENDAR
VERSION:2.0
PRODID:-//The BRIGHT - ECPv4.2.5//NONSGML v1.0//EN
CALSCALE:GREGORIAN
METHOD:PUBLISH
X-WR-CALNAME:The BRIGHT
X-ORIGINAL-URL:https://www.thebright.co.th
X-WR-CALDESC:Events for The BRIGHT
BEGIN:VEVENT
DTSTART;TZID=UTC+0:20221025T100000
DTEND;TZID=UTC+0:20221114T210000
DTSTAMP:20260424T202733
CREATED:20221031T025916
LAST-MODIFIED:20221031T025932
UID:9931-1666692000-1668459600@www.thebright.co.th
SUMMARY:Picnic Shop
DESCRIPTION:ร้านปิกนิค รวมของใช้พลาสติกให้ช้อปอย่างจุใจ วันที่ 25 ตุลาคม - 14 พฤศจิกายน 2565 บริเวณลานกิจกรรม ชั้น G หน้า Foodland @The Bright Rama 2
URL:https://www.thebright.co.th/event/picnic-shop/
LOCATION:15/6 Rama2 Rd.\,\, Thakarm\, Bangkhunthian\,\, Bangkok \, 10110\, Thailand
CATEGORIES:2022
ATTACH;FMTTYPE=image/jpeg:https://www.thebright.co.th/wp-content/uploads/PicNic.jpg
END:VEVENT
END:VCALENDAR