BEGIN:VCALENDAR
VERSION:2.0
PRODID:-//The BRIGHT - ECPv4.2.5//NONSGML v1.0//EN
CALSCALE:GREGORIAN
METHOD:PUBLISH
X-WR-CALNAME:The BRIGHT
X-ORIGINAL-URL:https://www.thebright.co.th
X-WR-CALDESC:Events for The BRIGHT
BEGIN:VEVENT
DTSTART;TZID=UTC+0:20231026T100000
DTEND;TZID=UTC+0:20231029T210000
DTSTAMP:20260422T104647
CREATED:20230925T050932
LAST-MODIFIED:20230925T051110
UID:10376-1698314400-1698613200@www.thebright.co.th
SUMMARY:OTOP
DESCRIPTION:มหาวิทยาลัยราชภัฎบ้านสมเด็จเจ้าพระยา ร่วมกับเดอะไบรท์ คอมมูนิตี้มอลล์ พระราม 2 โครงการยกระดับมาตรฐานผลิตภัณฑ์ชุมชมท้องถิ่น "OTOP University As Market Place" วันที่ 26-29 ตุลาคม 2566 ณ ลานกิจกรรม ชั้น G The Bright Community Mall พระราม 2 
URL:https://www.thebright.co.th/event/otop-4/
LOCATION:15/6 Rama2 Rd.\,\, Thakarm\, Bangkhunthian\,\, Bangkok \, 10110\, Thailand
CATEGORIES:2023
ATTACH;FMTTYPE=image/jpeg:https://www.thebright.co.th/wp-content/uploads/Otop_Oct66.jpg
END:VEVENT
END:VCALENDAR