BEGIN:VCALENDAR
VERSION:2.0
PRODID:-//The BRIGHT - ECPv4.2.5//NONSGML v1.0//EN
CALSCALE:GREGORIAN
METHOD:PUBLISH
X-WR-CALNAME:The BRIGHT
X-ORIGINAL-URL:https://www.thebright.co.th
X-WR-CALDESC:Events for The BRIGHT
BEGIN:VEVENT
DTSTART;TZID=UTC+0:20220409T000000
DTEND;TZID=UTC+0:20220409T180000
DTSTAMP:20260422T131723
CREATED:20220329T030858
LAST-MODIFIED:20220329T031143
UID:9612-1649462400-1649527200@www.thebright.co.th
SUMMARY:Miss Teen Trans Thailand
DESCRIPTION:"MISS TEEN TRANS THAILAND" วันที่ 9 เมษายน 2565 เวลา 12.00 - 18.00 น. งานพิธีมอบสายประจำจังหวัด ณ ลานกิจกรรม ชั้น 1  @THE BRIGHT RAMA 2
URL:https://www.thebright.co.th/event/miss-teen-trans-thailand/
LOCATION:15/6 Rama2 Rd.\,\, Thakarm\, Bangkhunthian\,\, Bangkok \, 10110\, Thailand
CATEGORIES:2022
ATTACH;FMTTYPE=image/jpeg:https://www.thebright.co.th/wp-content/uploads/MissTeenTrans.jpg
END:VEVENT
END:VCALENDAR