BEGIN:VCALENDAR
VERSION:2.0
PRODID:-//The BRIGHT - ECPv4.2.5//NONSGML v1.0//EN
CALSCALE:GREGORIAN
METHOD:PUBLISH
X-WR-CALNAME:The BRIGHT
X-ORIGINAL-URL:https://www.thebright.co.th
X-WR-CALDESC:Events for The BRIGHT
BEGIN:VEVENT
DTSTART;TZID=UTC+0:20240126T100000
DTEND;TZID=UTC+0:20240129T200000
DTSTAMP:20260422T052850
CREATED:20240124T093500
LAST-MODIFIED:20240124T093537
UID:10522-1706263200-1706558400@www.thebright.co.th
SUMMARY:Mega Toys Fair
DESCRIPTION:"MEGA TOYS FAIR" แฮปปี้ทุกโมเมนต์ พร้อมสนุกทุกจินตนาการ ครั้งแรกกับงานมหกรรมขายของเล่นที่ราคา...ถูกสุด ในย่านพระราม 2 ใน "ราคา 100 บาท ทั้งงาน!!" วันที่ 26-29 มกราคม 2567 เวลา 10.00 น. - 20.00 น. ณ ลานกิจกรรม ชั้น 1 เดอะไบรท์ คอมมูนิตี้มอลล์ พระราม 2  (พบโปรโมชั่นจุก ๆ ซื้อ 1 แถม 1) !!!
URL:https://www.thebright.co.th/event/mega-toys-fair-4/
LOCATION:15/6 Rama2 Rd.\,\, Thakarm\, Bangkhunthian\,\, Bangkok \, 10110\, Thailand
CATEGORIES:2024
ATTACH;FMTTYPE=image/jpeg:https://www.thebright.co.th/wp-content/uploads/Toys-Fair_Jan67.jpg
END:VEVENT
END:VCALENDAR