BEGIN:VCALENDAR
VERSION:2.0
PRODID:-//The BRIGHT - ECPv4.2.5//NONSGML v1.0//EN
CALSCALE:GREGORIAN
METHOD:PUBLISH
X-WR-CALNAME:The BRIGHT
X-ORIGINAL-URL:https://www.thebright.co.th
X-WR-CALDESC:Events for The BRIGHT
BEGIN:VEVENT
DTSTART;TZID=UTC+0:20240315T100000
DTEND;TZID=UTC+0:20240331T210000
DTSTAMP:20260422T035420
CREATED:20240307T024310
LAST-MODIFIED:20240307T024536
UID:10587-1710496800-1711918800@www.thebright.co.th
SUMMARY:LAMPTAN Lighting Festival
DESCRIPTION:"LAMPTAN"  ร่วมฉลองครบรอบ 9th Years Anniversary Celebration "THE BRIGHT" ห้างเดอะไบรท์ พระราม 2 จัดงานแสดงไฟ "LIGHTING FESTIVAL"  มาเช็คอิน ชิล ช้อป เพลินกับร้านค้าสุดพิเศษมากมาย วันที่ 15-31 มีนาคม 2024 พร้อมขนสินค้ามาทั้งโกดังใน  ราคาพิเศษ!!  เท่านั้น!!  หมดแล้วหมดเลย  ลดแรงแสบตา!! ในวันที่ 8-31 มีนาคม นี้ ลดสูงสุด 80% ราคาปังปุริเย่!!
URL:https://www.thebright.co.th/event/lamptan-lighting-festival/
LOCATION:15/6 Rama2 Rd.\,\, Thakarm\, Bangkhunthian\,\, Bangkok \, 10110\, Thailand
CATEGORIES:2024
ATTACH;FMTTYPE=image/jpeg:https://www.thebright.co.th/wp-content/uploads/Lamptan-Lighting-Festival.jpg
END:VEVENT
END:VCALENDAR