BEGIN:VCALENDAR
VERSION:2.0
PRODID:-//The BRIGHT - ECPv4.2.5//NONSGML v1.0//EN
CALSCALE:GREGORIAN
METHOD:PUBLISH
X-WR-CALNAME:The BRIGHT
X-ORIGINAL-URL:https://www.thebright.co.th
X-WR-CALDESC:Events for The BRIGHT
BEGIN:VEVENT
DTSTART;TZID=UTC+0:20230210T100000
DTEND;TZID=UTC+0:20230216T210000
DTSTAMP:20260425T022651
CREATED:20230213T091148
LAST-MODIFIED:20230213T091552
UID:10053-1676023200-1676581200@www.thebright.co.th
SUMMARY:Korea Grand Sale
DESCRIPTION:"KOREA GRAND SALE" เริ่มต้นที่ 59 บาท พบกับสินค้าเสื้อผ้า Outlet จากเกาหลีมากมาย ลดสูงสุดถึง 90% วันที่ 10 - 16 กุมภาพันธ์ 2023 "SALE up to 90% off " ณ ลานกิจกรรม ชั้น 1 เดอะไบรท์ คอมมูนิตี้มอลล์
URL:https://www.thebright.co.th/event/korea-grand-sale/
LOCATION:15/6 Rama2 Rd.\,\, Thakarm\, Bangkhunthian\,\, Bangkok \, 10110\, Thailand
CATEGORIES:2023
ATTACH;FMTTYPE=image/jpeg:https://www.thebright.co.th/wp-content/uploads/Korea.jpg
END:VEVENT
END:VCALENDAR