BEGIN:VCALENDAR
VERSION:2.0
PRODID:-//The BRIGHT - ECPv4.2.5//NONSGML v1.0//EN
CALSCALE:GREGORIAN
METHOD:PUBLISH
X-WR-CALNAME:The BRIGHT
X-ORIGINAL-URL:https://www.thebright.co.th
X-WR-CALDESC:Events for The BRIGHT
BEGIN:VEVENT
DTSTART;TZID=UTC+0:20170811T100000
DTEND;TZID=UTC+0:20170813T190000
DTSTAMP:20260424T042121
CREATED:20170728T102830
LAST-MODIFIED:20170728T102834
UID:4872-1502445600-1502650800@www.thebright.co.th
SUMMARY:Kiss up to MOM
DESCRIPTION: KISS UP TO MOM  บอกรักแม่ พร้อมร่วมกิจกรรมมากมาย อาทิ เช่น ร่วมรับฟังบทเพลงพระราชนิพนธ์\, ช้อปสินค้าราคาพิเศษสำหรับคุณแม่ และคุณลูก\, ตรวจสุขภาพฟรี! จากโรงพยาบาลบางปะกอก 9\, กิจกรรมระบายสีสำหรับคุณหนูๆ เป็นต้น
URL:https://www.thebright.co.th/event/kiss-up-to-mom/
LOCATION:15/6 Rama2 Rd.\,\, Thakarm\, Bangkhunthian\,\, Bangkok \, 10110\, Thailand
CATEGORIES:2017
ATTACH;FMTTYPE=image/jpeg:https://www.thebright.co.th/wp-content/uploads/Mother.jpg
END:VEVENT
END:VCALENDAR