BEGIN:VCALENDAR
VERSION:2.0
PRODID:-//The BRIGHT - ECPv4.2.5//NONSGML v1.0//EN
CALSCALE:GREGORIAN
METHOD:PUBLISH
X-WR-CALNAME:The BRIGHT
X-ORIGINAL-URL:https://www.thebright.co.th
X-WR-CALDESC:Events for The BRIGHT
BEGIN:VEVENT
DTSTART;TZID=UTC+0:20170611T130000
DTEND;TZID=UTC+0:20170611T180000
DTSTAMP:20260423T132811
CREATED:20170529T033956
LAST-MODIFIED:20170704T090326
UID:4309-1497186000-1497204000@www.thebright.co.th
SUMMARY:Kids Denim
DESCRIPTION:"THE BRIGHT KIDS DENIM"  FASHION SHOW CONTEST 2017 ศูนย์การค้าเดอะไบรท์ พระราม 2 ร่วมกับ ยาหยี ครีเอชั่น ขอเชิญคุณหนูๆ เข้าประกวดแฟชั่นโชว์ "ในคอนเซ็ปต์ KIDS DENIM"  ชิงรางวัล มูลค่ากว่า 20\,000 บาท ณ ลานกิจกรรม ชั้น G (หน้า Foodland) 1.00 - 6.00 PM
URL:https://www.thebright.co.th/event/kids-denim/
LOCATION:15/6 Rama2 Rd.\,\, Thakarm\, Bangkhunthian\,\, Bangkok \, 10110\, Thailand
CATEGORIES:2017
ATTACH;FMTTYPE=image/jpeg:https://www.thebright.co.th/wp-content/uploads/Kids-Denim.jpg
END:VEVENT
END:VCALENDAR