BEGIN:VCALENDAR
VERSION:2.0
PRODID:-//The BRIGHT - ECPv4.2.5//NONSGML v1.0//EN
CALSCALE:GREGORIAN
METHOD:PUBLISH
X-WR-CALNAME:The BRIGHT
X-ORIGINAL-URL:https://www.thebright.co.th
X-WR-CALDESC:Events for The BRIGHT
BEGIN:VEVENT
DTSTART;TZID=UTC+0:20170902T170000
DTEND;TZID=UTC+0:20171231T220000
DTSTAMP:20260424T101637
CREATED:20170809T081513
LAST-MODIFIED:20171228T075104
UID:5058-1504371600-1514757600@www.thebright.co.th
SUMMARY:Indy Night Market
DESCRIPTION: INDY NIGHT MARKET  ช้อป ชม ชิล กับ ตลาดอินดี้ แห่งแรกบนถนนพระราม 2 พบกับ สินค้าแฮนด์เมด สินค้าเอกลักษณ์เฉพาะของลูกค้า ร้านอาหาร และดนตรี กว่าร้อยร้านค้า ภายใต้บรรยากาศไฟประดับสวยงาม ให้ได้แชร์ก่อนใคร
URL:https://www.thebright.co.th/event/indy-night-market/
LOCATION:15/6 Rama2 Rd.\,\, Thakarm\, Bangkhunthian\,\, Bangkok \, 10110\, Thailand
CATEGORIES:2017
ATTACH;FMTTYPE=image/jpeg:https://www.thebright.co.th/wp-content/uploads/Indy.jpg
END:VEVENT
END:VCALENDAR