BEGIN:VCALENDAR
VERSION:2.0
PRODID:-//The BRIGHT - ECPv4.2.5//NONSGML v1.0//EN
CALSCALE:GREGORIAN
METHOD:PUBLISH
X-WR-CALNAME:The BRIGHT
X-ORIGINAL-URL:https://www.thebright.co.th
X-WR-CALDESC:Events for The BRIGHT
BEGIN:VEVENT
DTSTART;TZID=UTC+0:20210210T100000
DTEND;TZID=UTC+0:20210214T180000
DTSTAMP:20260424T160027
CREATED:20210204T033112
LAST-MODIFIED:20210204T033120
UID:8779-1612951200-1613325600@www.thebright.co.th
SUMMARY:Horoscope
DESCRIPTION:"เช็คดวงเสริมบารมี" ต้อนรับตรุษจีน ปีวัว 2021 เราช่วยคุณได้ กับคณาจารย์ในสถาบันสมาคมโหราศาสตร์นานาชาติในศาสตร์ทำนายชะตาชีวิตมากมาย เสริมราศี การงาน ความรัก สุขภาพ เฮง ปัง โชคลาภ มั่งมี วันที่ 10-14 ก.พ. 2021 เวลา 10.00-18.00 น. ณ ลานกิจกรรม ชั้น G หน้า Foodland 
URL:https://www.thebright.co.th/event/horoscope/
LOCATION:15/6 Rama2 Rd.\,\, Thakarm\, Bangkhunthian\,\, Bangkok \, 10110\, Thailand
CATEGORIES:2021
ATTACH;FMTTYPE=image/jpeg:https://www.thebright.co.th/wp-content/uploads/Horoscope.jpg
END:VEVENT
END:VCALENDAR