BEGIN:VCALENDAR
VERSION:2.0
PRODID:-//The BRIGHT - ECPv4.2.5//NONSGML v1.0//EN
CALSCALE:GREGORIAN
METHOD:PUBLISH
X-WR-CALNAME:The BRIGHT
X-ORIGINAL-URL:https://www.thebright.co.th
X-WR-CALDESC:Events for The BRIGHT
BEGIN:VEVENT
DTSTART;TZID=UTC+0:20170311T090000
DTEND;TZID=UTC+0:20170312T220000
DTSTAMP:20260423T004011
CREATED:20170303T093808
LAST-MODIFIED:20170331T041337
UID:3315-1489222800-1489356000@www.thebright.co.th
SUMMARY:HH&MM_Mar(W2)
DESCRIPTION:ตลาดนัด "Handmade & Homemade”  สินค้าน่ารักๆ ในบรรยากาศสุดชิล และกิจกรรมชิคๆคูลๆ มากมาย ในวันเสาร์ - อาทิตย์ที่ 2 และ 4 ของทุกเดือน THE BRIGHT CITY LIFESTYLE MALL\nจุดนัดพบแห่งใหม่บนถนนพระราม 2
URL:https://www.thebright.co.th/event/hhmm_marw2/
LOCATION:15/6 Rama2 Rd.\,\, Thakarm\, Bangkhunthian\,\, Bangkok \, 10110\, Thailand
CATEGORIES:2017
ATTACH;FMTTYPE=image/jpeg:https://www.thebright.co.th/wp-content/uploads/HHMM_Feb_1.jpg
END:VEVENT
END:VCALENDAR