BEGIN:VCALENDAR
VERSION:2.0
PRODID:-//The BRIGHT - ECPv4.2.5//NONSGML v1.0//EN
CALSCALE:GREGORIAN
METHOD:PUBLISH
X-WR-CALNAME:The BRIGHT
X-ORIGINAL-URL:https://www.thebright.co.th
X-WR-CALDESC:Events for The BRIGHT
BEGIN:VEVENT
DTSTART;TZID=UTC+0:20170908T110000
DTEND;TZID=UTC+0:20170910T200000
DTSTAMP:20260424T131748
CREATED:20170831T093020
LAST-MODIFIED:20170904T042048
UID:5123-1504868400-1505073600@www.thebright.co.th
SUMMARY:Hero & Princess
DESCRIPTION:THE BRIGHT HERO AND PRINCESS FASHION SHOW CONTEST 2017 กิจกรรมการประกวด วันเสาร์ที่ 9 กันยายน 2560 ขอเชิญคุณหนูๆ เข้าร่วมประกวดแฟชั่นโชว์ในคอนเซ็ปต์  "HERO AND PRINCESS"  8-10 SEPTEMBER 2017 ลานกิจกรรมชั้น G\n
URL:https://www.thebright.co.th/event/hero-and-princess/
LOCATION:15/6 Rama2 Rd.\,\, Thakarm\, Bangkhunthian\,\, Bangkok \, 10110\, Thailand
CATEGORIES:2017
ATTACH;FMTTYPE=image/jpeg:https://www.thebright.co.th/wp-content/uploads/Hero-Princess.jpg
END:VEVENT
END:VCALENDAR