BEGIN:VCALENDAR
VERSION:2.0
PRODID:-//The BRIGHT - ECPv4.2.5//NONSGML v1.0//EN
CALSCALE:GREGORIAN
METHOD:PUBLISH
X-WR-CALNAME:The BRIGHT
X-ORIGINAL-URL:https://www.thebright.co.th
X-WR-CALDESC:Events for The BRIGHT
BEGIN:VEVENT
DTSTART;TZID=UTC+0:20240105T100000
DTEND;TZID=UTC+0:20240205T200000
DTSTAMP:20260422T052951
CREATED:20240110T030140
LAST-MODIFIED:20240110T031055
UID:10499-1704448800-1707163200@www.thebright.co.th
SUMMARY:Happy Year Sale
DESCRIPTION:"HAPPY YEAR SALE พบกับสินค้าราคาสุดพิเศษ" สินค้าชุดเครื่องนอน วันที่ 5 มกราคม - 5 กุมภาพันธ์ 2567\, สินค้าเบ็ดเตล็ด วันที่ 13 - 31 มกราคม 2567\, สินค้ากล่องนานาชนิด วันที่ 5 - 31 มกราคม 2567 ณ ลานกิจกรรม ชั้น G เวลา 10.00 - 20.00 น.
URL:https://www.thebright.co.th/event/happy-year-sale/
LOCATION:15/6 Rama2 Rd.\,\, Thakarm\, Bangkhunthian\,\, Bangkok \, 10110\, Thailand
CATEGORIES:2024
ATTACH;FMTTYPE=image/jpeg:https://www.thebright.co.th/wp-content/uploads/Happy-Year-Sale.jpg
END:VEVENT
END:VCALENDAR