BEGIN:VCALENDAR
VERSION:2.0
PRODID:-//The BRIGHT - ECPv4.2.5//NONSGML v1.0//EN
CALSCALE:GREGORIAN
METHOD:PUBLISH
X-WR-CALNAME:The BRIGHT
X-ORIGINAL-URL:https://www.thebright.co.th
X-WR-CALDESC:Events for The BRIGHT
BEGIN:VEVENT
DTSTART;TZID=UTC+0:20240302T100000
DTEND;TZID=UTC+0:20240314T210000
DTSTAMP:20260422T035440
CREATED:20240304T063841
LAST-MODIFIED:20240304T064057
UID:10575-1709373600-1710450000@www.thebright.co.th
SUMMARY:Happy Summer Sale
DESCRIPTION:LIMITED TIME ONLY "HAPPY SUMMER SALE" ตั้งแต่วันที่ 2-14 มีนาคม 2567 นี้ ต้อนรับฤดูร้อนสุดร้อนแรง พบกับเสื้อผ้าแฟชั่น รองเท้า และสินค้านานาชนิดจากแบรนด์ดัง อาทิ Rubber Soul\, Monobo\, Adidas เป็นต้น ร้อน ๆ แบบนี้ อย่าลืม!! มาละลายทรัพย์กันนะคะ
URL:https://www.thebright.co.th/event/happy-summer-sale/
LOCATION:15/6 Rama2 Rd.\,\, Thakarm\, Bangkhunthian\,\, Bangkok \, 10110\, Thailand
CATEGORIES:2024
ATTACH;FMTTYPE=image/jpeg:https://www.thebright.co.th/wp-content/uploads/Happy-Summer-Sale.jpg
END:VEVENT
END:VCALENDAR