BEGIN:VCALENDAR
VERSION:2.0
PRODID:-//The BRIGHT - ECPv4.2.5//NONSGML v1.0//EN
CALSCALE:GREGORIAN
METHOD:PUBLISH
X-WR-CALNAME:The BRIGHT
X-ORIGINAL-URL:https://www.thebright.co.th
X-WR-CALDESC:Events for The BRIGHT
BEGIN:VEVENT
DTSTART;TZID=UTC+0:20241013T100000
DTEND;TZID=UTC+0:20241113T200000
DTSTAMP:20260421T230324
CREATED:20240930T081708
LAST-MODIFIED:20240930T082336
UID:10850-1728813600-1731528000@www.thebright.co.th
SUMMARY:Happy Sale
DESCRIPTION:"THE BRIGHT HAPPY SALE"  วันที่ 13 ตุลาคม - 13 พฤศจิกายน 2567  เวลา 10.00 - 20.00 น. พบกับสินค้า Jessica\, Tulip\, boxbox\, Pulin
URL:https://www.thebright.co.th/event/happy-sale-2/
LOCATION:15/6 Rama2 Rd.\,\, Thakarm\, Bangkhunthian\,\, Bangkok \, 10110\, Thailand
CATEGORIES:2024
ATTACH;FMTTYPE=image/jpeg:https://www.thebright.co.th/wp-content/uploads/Happy-Sale.jpg
END:VEVENT
END:VCALENDAR