BEGIN:VCALENDAR
VERSION:2.0
PRODID:-//The BRIGHT - ECPv4.2.5//NONSGML v1.0//EN
CALSCALE:GREGORIAN
METHOD:PUBLISH
X-WR-CALNAME:The BRIGHT
X-ORIGINAL-URL:https://www.thebright.co.th
X-WR-CALDESC:Events for The BRIGHT
BEGIN:VEVENT
DTSTART;TZID=UTC+0:20240517T100000
DTEND;TZID=UTC+0:20240519T200000
DTSTAMP:20260424T081432
CREATED:20240508T024038
LAST-MODIFIED:20240508T024206
UID:10683-1715940000-1716148800@www.thebright.co.th
SUMMARY:For Kids
DESCRIPTION:"THE BRIGHT For Kids"  วันที่ 17-19 พฤษภาคม 2567 เวลา 10.00-20.00 น. ห้ามพลาด!! สร้างความสุขและแรงบันดาลใจให้กับเด็ก ๆ มาพร้อมกับกิจกรรมสุดน่ารัก อาทิ บ้านลมยักษ์ ให้อาหารสัตว์ตัวน้อย บูธของเล่นต่าง ๆ อีกมากมาย ณ ลานกิจกรรม ชั้น 1 เดอะไบรท์ คอมมูนิตี้มอลล์ พระราม 2
URL:https://www.thebright.co.th/event/for-kids/
LOCATION:15/6 Rama2 Rd.\,\, Thakarm\, Bangkhunthian\,\, Bangkok \, 10110\, Thailand
CATEGORIES:2024
ATTACH;FMTTYPE=image/jpeg:https://www.thebright.co.th/wp-content/uploads/For-Kids.jpg
END:VEVENT
END:VCALENDAR