BEGIN:VCALENDAR
VERSION:2.0
PRODID:-//The BRIGHT - ECPv4.2.5//NONSGML v1.0//EN
CALSCALE:GREGORIAN
METHOD:PUBLISH
X-WR-CALNAME:The BRIGHT
X-ORIGINAL-URL:https://www.thebright.co.th
X-WR-CALDESC:Events for The BRIGHT
BEGIN:VEVENT
DTSTART;TZID=UTC+0:20170407T110000
DTEND;TZID=UTC+0:20170409T220000
DTSTAMP:20260422T182928
CREATED:20170331T023606
LAST-MODIFIED:20170331T035114
UID:3614-1491562800-1491775200@www.thebright.co.th
SUMMARY:FoodFest_Apr(W1)
DESCRIPTION:"THE BRIGHT FOOD FEST"   พบกับสุดยอดร้านดัง สไตล์ Street Food "ทุกสัปดาห์ที่ 1 และ 3 ของเดือน"  ชวนคุณมาสนุกกับกิจกรรมมันส์ๆ พร้อมลุ้นรับของรางวัลมากมายตลอดงาน พิเศษสุด! พบกับร้านดาราดัง ที่ยกขบวนมาเสิร์ฟความอร่อยให้คุณถึงที่  ศูนย์การค้าเดอะไบรท์ พระราม 2
URL:https://www.thebright.co.th/event/foodfest_aprw1/
LOCATION:15/6 Rama2 Rd.\,\, Thakarm\, Bangkhunthian\,\, Bangkok \, 10110\, Thailand
CATEGORIES:2017
ATTACH;FMTTYPE=image/jpeg:https://www.thebright.co.th/wp-content/uploads/FoodFest_2.jpg
END:VEVENT
END:VCALENDAR