BEGIN:VCALENDAR
VERSION:2.0
PRODID:-//The BRIGHT - ECPv4.2.5//NONSGML v1.0//EN
CALSCALE:GREGORIAN
METHOD:PUBLISH
X-WR-CALNAME:The BRIGHT
X-ORIGINAL-URL:https://www.thebright.co.th
X-WR-CALDESC:Events for The BRIGHT
BEGIN:VEVENT
DTSTART;TZID=UTC+0:20230810T100000
DTEND;TZID=UTC+0:20230813T210000
DTSTAMP:20260423T041234
CREATED:20230803T102306
LAST-MODIFIED:20230803T102358
UID:10288-1691661600-1691960400@www.thebright.co.th
SUMMARY:FOOD FEST
DESCRIPTION:"FOOD FEST (FOOD-DRINK-LIFE STYLE)"  วันที่ 10-13 สิงหาคม 2566 เวลา 10.00-20.00 น. ยกขบวนความอร่อยกับเมนูรสเด็ด เอาใจสายกินฟินแบบ Non-Stop ณ ลานกิจกรรม ชั้น G เดอะไบรท์ คอมมูนิตี้มอลล์ พระราม 2 
URL:https://www.thebright.co.th/event/food-fest-3/
LOCATION:15/6 Rama2 Rd.\,\, Thakarm\, Bangkhunthian\,\, Bangkok \, 10110\, Thailand
CATEGORIES:2023
ATTACH;FMTTYPE=image/jpeg:https://www.thebright.co.th/wp-content/uploads/FoodFest_Aug_66.jpg
END:VEVENT
END:VCALENDAR