BEGIN:VCALENDAR
VERSION:2.0
PRODID:-//The BRIGHT - ECPv4.2.5//NONSGML v1.0//EN
CALSCALE:GREGORIAN
METHOD:PUBLISH
X-WR-CALNAME:The BRIGHT
X-ORIGINAL-URL:https://www.thebright.co.th
X-WR-CALDESC:Events for The BRIGHT
BEGIN:VEVENT
DTSTART;TZID=UTC+0:20220601T100000
DTEND;TZID=UTC+0:20220623T210000
DTSTAMP:20260424T122921
CREATED:20220609T063321
LAST-MODIFIED:20220609T063650
UID:9708-1654077600-1656018000@www.thebright.co.th
SUMMARY:Fashion Outlet Fair
DESCRIPTION:"FASHION OUTLET FAIR" 1 - 23 JUNE 2022 ลดราคา ท้ามาช้อป SALE up to 80% off @THE BRIGHT COMMUNITY MALL
URL:https://www.thebright.co.th/event/fashion-outlet-fair/
LOCATION:15/6 Rama2 Rd.\,\, Thakarm\, Bangkhunthian\,\, Bangkok \, 10110\, Thailand
CATEGORIES:2022
ATTACH;FMTTYPE=image/jpeg:https://www.thebright.co.th/wp-content/uploads/Fashion-Outlet-Fair.jpg
END:VEVENT
END:VCALENDAR