BEGIN:VCALENDAR
VERSION:2.0
PRODID:-//The BRIGHT - ECPv4.2.5//NONSGML v1.0//EN
CALSCALE:GREGORIAN
METHOD:PUBLISH
X-WR-CALNAME:The BRIGHT
X-ORIGINAL-URL:https://www.thebright.co.th
X-WR-CALDESC:Events for The BRIGHT
BEGIN:VEVENT
DTSTART;TZID=UTC+0:20231101T100000
DTEND;TZID=UTC+0:20231203T210000
DTSTAMP:20260422T091212
CREATED:20231026T032953
LAST-MODIFIED:20231026T032957
UID:10399-1698832800-1701637200@www.thebright.co.th
SUMMARY:Fashion 2023
DESCRIPTION:"FASHION on sale" วันที่ 1 พฤศจิกายน - 3 ธันวาคม 2023 ลดราคา ท้ามาช้อป SALE UP 80% off  @THE BRIGHT COMMUNITY MALL
URL:https://www.thebright.co.th/event/fashion-2023-2/
LOCATION:15/6 Rama2 Rd.\,\, Thakarm\, Bangkhunthian\,\, Bangkok \, 10110\, Thailand
CATEGORIES:2023
END:VEVENT
END:VCALENDAR