BEGIN:VCALENDAR
VERSION:2.0
PRODID:-//The BRIGHT - ECPv4.2.5//NONSGML v1.0//EN
CALSCALE:GREGORIAN
METHOD:PUBLISH
X-WR-CALNAME:The BRIGHT
X-ORIGINAL-URL:https://www.thebright.co.th
X-WR-CALDESC:Events for The BRIGHT
BEGIN:VEVENT
DTSTART;TZID=UTC+0:20230120T100000
DTEND;TZID=UTC+0:20230206T210000
DTSTAMP:20260425T005259
CREATED:20230125T023522
LAST-MODIFIED:20230125T023714
UID:10014-1674208800-1675717200@www.thebright.co.th
SUMMARY:Export Sale
DESCRIPTION:"EXPORT BIG SURPRISE SALE"  วันที่ 20 ม.ค. - 6 ก.พ. 66 ช้อปจุก ๆ กับสินค้า Outlet เสื้อผ้ากีฬาและเครื่องแต่งกายอื่น ๆ อีกมากมาย "ลดมากถึง 80%" บริเวณลานกิจกรรม ชั้น 1 เดอะไบรท์ คอมมูนิตี้มอลล์
URL:https://www.thebright.co.th/event/export-sale/
LOCATION:15/6 Rama2 Rd.\,\, Thakarm\, Bangkhunthian\,\, Bangkok \, 10110\, Thailand
CATEGORIES:2023
ATTACH;FMTTYPE=image/jpeg:https://www.thebright.co.th/wp-content/uploads/Export-Big-Sale.jpg
END:VEVENT
END:VCALENDAR