BEGIN:VCALENDAR
VERSION:2.0
PRODID:-//The BRIGHT - ECPv4.2.5//NONSGML v1.0//EN
CALSCALE:GREGORIAN
METHOD:PUBLISH
X-WR-CALNAME:The BRIGHT
X-ORIGINAL-URL:https://www.thebright.co.th
X-WR-CALDESC:Events for The BRIGHT
BEGIN:VEVENT
DTSTART;TZID=UTC+0:20240501T100000
DTEND;TZID=UTC+0:20240531T200000
DTSTAMP:20260422T003912
CREATED:20240430T080152
LAST-MODIFIED:20240430T080436
UID:10660-1714557600-1717185600@www.thebright.co.th
SUMMARY:Export Big Raining Sale
DESCRIPTION:"EXPORT BIG RAINING SALE" วันที่ 1-31 พฤษภาคม 2567 เวลา 10.00-20.00 น. ต้อนรับหน้าฝน กับโปรโมชั่นสุดร้อนแรง ลดสูงสุดถึง 80% กับเสื้อผ้าแฟชั่น รองเท้า เสื้อกีฬา เสื้อแจ็กเก็ต และอื่น ๆ อีกมากมายกว่าร้อยรายการ! "Export Sale DISCOUNT UP TO 80%" บริเวณลานกิจกรรม ชั้น 1 เดอะไบรท์ คอมมูนิตี้มอลล์
URL:https://www.thebright.co.th/event/export-big-raining-sale/
LOCATION:15/6 Rama2 Rd.\,\, Thakarm\, Bangkhunthian\,\, Bangkok \, 10110\, Thailand
CATEGORIES:2024
ATTACH;FMTTYPE=image/jpeg:https://www.thebright.co.th/wp-content/uploads/Export-Sale-May2024.jpg
END:VEVENT
END:VCALENDAR