BEGIN:VCALENDAR
VERSION:2.0
PRODID:-//The BRIGHT - ECPv4.2.5//NONSGML v1.0//EN
CALSCALE:GREGORIAN
METHOD:PUBLISH
X-WR-CALNAME:The BRIGHT
X-ORIGINAL-URL:https://www.thebright.co.th
X-WR-CALDESC:Events for The BRIGHT
BEGIN:VEVENT
DTSTART;TZID=UTC+0:20241215T170000
DTEND;TZID=UTC+0:20241215T183000
DTSTAMP:20260420T154923
CREATED:20241202T031003
LAST-MODIFIED:20241202T031006
UID:10955-1734282000-1734287400@www.thebright.co.th
SUMMARY:Dog Club
DESCRIPTION:"THE BRIGHT DOG CLUB" มาสนุกกับกิจกรรม "เข้าฝูง" ทุกวันอาทิตย์ที่ 3 ของทุกเดือน "ฟรี!! ไม่มีค่าใช้จ่ายใด ๆ ทั้งสิ้น" ขอเชิญชวนทุกท่านนำน้องหมามาร่วมทำกิจกรรม ปรับพฤติกรรมพื้นฐาน "กิจกรรมการเข้าสังคม การดูแลสุขภาพผิวหนังและอื่น ๆ" ก่อนพาน้องหมาเที่ยวนอกบ้านพร้อมฝึกความสามารถเบื้องต้น โดย ครูหนึ่ง Super Dog มาให้ความรู้ในเรื่องกิจกรรมดูแลสุนัข โภชนาการและแก้ไขปัญหาเชิงพฤติกรรมในการเลี้ยงสุนัข พบกันอีกที วันที่ 15 ธันวาคม 2567 เวลา 17.00 - 18.30 น. ที่เดอะไบรท์ พระราม 2 พบกันที่ลานกิจกรรม ชั้น G
URL:https://www.thebright.co.th/event/dog-club-50/
LOCATION:15/6 Rama2 Rd.\,\, Thakarm\, Bangkhunthian\,\, Bangkok \, 10110\, Thailand
CATEGORIES:2024
ATTACH;FMTTYPE=image/jpeg:https://www.thebright.co.th/wp-content/uploads/Dog-Club_Dec_67.jpg
END:VEVENT
END:VCALENDAR