BEGIN:VCALENDAR
VERSION:2.0
PRODID:-//The BRIGHT - ECPv4.2.5//NONSGML v1.0//EN
CALSCALE:GREGORIAN
METHOD:PUBLISH
X-WR-CALNAME:The BRIGHT
X-ORIGINAL-URL:https://www.thebright.co.th
X-WR-CALDESC:Events for The BRIGHT
BEGIN:VEVENT
DTSTART;TZID=UTC+0:20241020T190000
DTEND;TZID=UTC+0:20241020T190000
DTSTAMP:20260421T231203
CREATED:20241003T032104
LAST-MODIFIED:20241003T032107
UID:10861-1729450800-1729450800@www.thebright.co.th
SUMMARY:Dog Club
DESCRIPTION:"THE BRIGHT DOG CLUB" มาสนุกกับกิจกรรม "เข้าฝูง" ทุกวันอาทิตย์ที่ 3 ของทุกเดือน "ฟรี!! ไม่มีค่าใช้จ่ายใด ๆ ทั้งสิ้น" ขอเชิญชวนทุกท่านนำน้องหมามาร่วมทำกิจกรรม ปรับพฤติกรรมพื้นฐาน ก่อนพาน้องหมาเที่ยวนอกบ้านพร้อมฝึกความสามารถเบื้องต้น โดย ครูหนึ่ง Super Dog มาให้ความรู้ในเรื่องกิจกรรมดูแลสุนัข โภชนาการและแก้ไขปัญหาเชิงพฤติกรรมในการเลี้ยงสุนัข พบกันอีกที วันที่ 20 ตุลาคม 2567 เวลา 17.00 - 18.30 น. ที่เดอะไบรท์ พระราม 2 พบกันที่ลานกิจกรรม ชั้น G
URL:https://www.thebright.co.th/event/dog-club-48/
LOCATION:15/6 Rama2 Rd.\,\, Thakarm\, Bangkhunthian\,\, Bangkok \, 10110\, Thailand
CATEGORIES:2024
ATTACH;FMTTYPE=image/jpeg:https://www.thebright.co.th/wp-content/uploads/Dog-Club_Oct_67.jpg
END:VEVENT
END:VCALENDAR