BEGIN:VCALENDAR
VERSION:2.0
PRODID:-//The BRIGHT - ECPv4.2.5//NONSGML v1.0//EN
CALSCALE:GREGORIAN
METHOD:PUBLISH
X-WR-CALNAME:The BRIGHT
X-ORIGINAL-URL:https://www.thebright.co.th
X-WR-CALDESC:Events for The BRIGHT
BEGIN:VEVENT
DTSTART;TZID=UTC+0:20231015T170000
DTEND;TZID=UTC+0:20231015T183000
DTSTAMP:20260422T120251
CREATED:20230925T045427
LAST-MODIFIED:20230925T050043
UID:10372-1697389200-1697394600@www.thebright.co.th
SUMMARY:Dog Club
DESCRIPTION:มาสนุกกับกิจกรรม "เข้าฝูง" ทุกวันอาทิตย์ที่ 3 ของทุกเดือน "ฟรี!! ไม่มีค่าใช้จ่ายใด ๆ ทั้งสิ้น" ขอเชิญชวนทุกท่านนำน้องหมามาร่วมทำกิจกรรม ปรับพฤติกรรมพื้นฐาน ก่อนพาน้องหมาเที่ยวนอกบ้านพร้อมฝึกความสามารถเบื้องต้น โดย ครูหนึ่ง Super Dog มาให้ความรู้ในเรื่องกิจกรรมดูแลสุนัข ในช่วงหน้าฝนโภชนาการและแก้ไขปัญหาเชิงพฤติกรรมในการเลี้ยงสุนัข วันที่ 15 ตุลาคม 2566 เวลา 17.00 - 18.30 น. ที่เดอะไบรท์ พระราม 2 ณ ลานกิจกรรม ด้านหน้า ชั้น G (ข้าง Starbucks Coffee)
URL:https://www.thebright.co.th/event/dog-club-36/
LOCATION:15/6 Rama2 Rd.\,\, Thakarm\, Bangkhunthian\,\, Bangkok \, 10110\, Thailand
CATEGORIES:2023
ATTACH;FMTTYPE=image/jpeg:https://www.thebright.co.th/wp-content/uploads/Dog-Club_Oct_66.jpg
END:VEVENT
END:VCALENDAR