BEGIN:VCALENDAR
VERSION:2.0
PRODID:-//The BRIGHT - ECPv4.2.5//NONSGML v1.0//EN
CALSCALE:GREGORIAN
METHOD:PUBLISH
X-WR-CALNAME:The BRIGHT
X-ORIGINAL-URL:https://www.thebright.co.th
X-WR-CALDESC:Events for The BRIGHT
BEGIN:VEVENT
DTSTART;TZID=UTC+0:20220717T170000
DTEND;TZID=UTC+0:20220717T183000
DTSTAMP:20260424T154215
CREATED:20220621T102725
LAST-MODIFIED:20220727T103316
UID:9742-1658077200-1658082600@www.thebright.co.th
SUMMARY:Dog Club
DESCRIPTION:มาสนุกกับกิจกรรม "เข้าฝูง" ทุกวันอาทิตย์ที่ 3 ของเดือน ฟรี!! ไม่มีค่าใช้จ่ายใด ๆ ทั้งสิ้น กลับมาอีกครั้งกับกิจกรรมที่ทุกคนรอคอย ขอเชิญชวนทุกท่านนำน้องหมามาร่วมทำกิจกรรม ปรับพฤติกรรมพื้นฐาน ก่อนพาน้องหมาเที่ยวนอกบ้านพร้อมฝึกความสามารถเบื้องต้น โดย ครูหนึ่ง Super Dog วันที่ 17 กรกฎาคม 2565 เวลา 17.00 - 18.30 น. ที่เดอะไบรท์ พระราม 2 ณ ลานกิจกรรม ชั้น G (ข้าง Starbucks Coffee)
URL:https://www.thebright.co.th/event/dog-club-24/
LOCATION:15/6 Rama2 Rd.\,\, Thakarm\, Bangkhunthian\,\, Bangkok \, 10110\, Thailand
CATEGORIES:2022
ATTACH;FMTTYPE=image/jpeg:https://www.thebright.co.th/wp-content/uploads/Dog-Club_July65.jpg
END:VEVENT
END:VCALENDAR