BEGIN:VCALENDAR
VERSION:2.0
PRODID:-//The BRIGHT - ECPv4.2.5//NONSGML v1.0//EN
CALSCALE:GREGORIAN
METHOD:PUBLISH
X-WR-CALNAME:The BRIGHT
X-ORIGINAL-URL:https://www.thebright.co.th
X-WR-CALDESC:Events for The BRIGHT
BEGIN:VEVENT
DTSTART;TZID=UTC+0:20231124T160000
DTEND;TZID=UTC+0:20231127T230000
DTSTAMP:20260422T101655
CREATED:20231113T092123
LAST-MODIFIED:20231113T092441
UID:10447-1700841600-1701126000@www.thebright.co.th
SUMMARY:Craft Drinks
DESCRIPTION:"รวมพล คนรักเครื่องดื่ม CRAFT (50 BRANDS)" พบกับคราฟต์เครื่องดื่มหลากหลายประเภท กว่า 50 บูธ มาพร้อมกับอาหารและชิลล์กับดนตรี "FOLKSONG" เบา ๆ ได้ตลอดงาน วันที่ 24 - 27 พฤศจิกายน 2023 ตั้งแต่เวลา 16.00 - 23.00 น. ณ ลานกิจกรรม ชั้น G
URL:https://www.thebright.co.th/event/craft-drinks/
LOCATION:15/6 Rama2 Rd.\,\, Thakarm\, Bangkhunthian\,\, Bangkok \, 10110\, Thailand
CATEGORIES:2023
ATTACH;FMTTYPE=image/jpeg:https://www.thebright.co.th/wp-content/uploads/Craft-Drinks.jpg
END:VEVENT
END:VCALENDAR