BEGIN:VCALENDAR
VERSION:2.0
PRODID:-//The BRIGHT - ECPv4.2.5//NONSGML v1.0//EN
CALSCALE:GREGORIAN
METHOD:PUBLISH
X-WR-CALNAME:The BRIGHT
X-ORIGINAL-URL:https://www.thebright.co.th
X-WR-CALDESC:Events for The BRIGHT
BEGIN:VEVENT
DTSTART;TZID=UTC+0:20221022T080000
DTEND;TZID=UTC+0:20221022T170000
DTSTAMP:20260424T202112
CREATED:20221010T092232
LAST-MODIFIED:20221010T101208
UID:9908-1666425600-1666458000@www.thebright.co.th
SUMMARY:Click Robot 2022
DESCRIPTION:"CLICK ROBOT INTERNAL COMPETITION 2022" วันที่ 22 ตุลาคม 2565 เวลา 8.00 - 17.00 น. ร่วมให้กำลังใจน้อง ๆ เยาวชน อายุระหว่าง 4-14 ปี กับการแข่งขันออกแบบหุ่นยนต์และเขียนโปรแกรมทำภารกิจสนาม ชิงถ้วยรางวัล จากสถาบัน Click Robot ณ ลานกิจกรรม ชั้น 1 (หน้าร้านนายอินทร์) @THE BRIGHT RAMA 2  
URL:https://www.thebright.co.th/event/click-robot-2022/
LOCATION:15/6 Rama2 Rd.\,\, Thakarm\, Bangkhunthian\,\, Bangkok \, 10110\, Thailand
CATEGORIES:2022
ATTACH;FMTTYPE=image/jpeg:https://www.thebright.co.th/wp-content/uploads/Click-Robot2022.jpg
END:VEVENT
END:VCALENDAR