BEGIN:VCALENDAR
VERSION:2.0
PRODID:-//The BRIGHT - ECPv4.2.5//NONSGML v1.0//EN
CALSCALE:GREGORIAN
METHOD:PUBLISH
X-WR-CALNAME:The BRIGHT
X-ORIGINAL-URL:https://www.thebright.co.th
X-WR-CALDESC:Events for The BRIGHT
BEGIN:VEVENT
DTSTART;TZID=UTC+0:20220201T180000
DTEND;TZID=UTC+0:20220201T210000
DTSTAMP:20260420T082045
CREATED:20220119T083438
LAST-MODIFIED:20260130T014632
UID:9469-1643738400-1643749200@www.thebright.co.th
SUMMARY:Chinese New Year 2022
DESCRIPTION:"THE BRIGHT CHINESE NEW YEAR ซินเจียยู่อี่ ซินนี้ฮวดใช้ ตรุษจีน ปี 2565" วันที่ 1 กุมภาพันธ์ 2022 เวลา 18.00 น. เป็นต้นไป พบกับ กายกรรมสิงโตค่ายกล สิงโตต่อตัว สิงโตคายป้ายอวยพร มังกรไล่แก้วมหามงคล มังกรเล่นม่านน้ำตก มังกรพันเสาสวรรค์ต่อสู้นาจา และพบกับหมอดูพร้อมแนะนำปรับฮวงจุ้ย เสริมดวงรับตรุษจีนปีใหม่ ณ ลานกิจกรรม ชั้น G (หน้าฟู้ดแลนด์)
URL:https://www.thebright.co.th/event/chinese-new-year-2022/
LOCATION:15/6 Rama2 Rd.\,\, Thakarm\, Bangkhunthian\,\, Bangkok \, 10110\, Thailand
CATEGORIES:2022
ATTACH;FMTTYPE=image/jpeg:https://www.thebright.co.th/wp-content/uploads/ChineseNewYear65.jpg
END:VEVENT
END:VCALENDAR