BEGIN:VCALENDAR
VERSION:2.0
PRODID:-//The BRIGHT - ECPv4.2.5//NONSGML v1.0//EN
CALSCALE:GREGORIAN
METHOD:PUBLISH
X-WR-CALNAME:The BRIGHT
X-ORIGINAL-URL:https://www.thebright.co.th
X-WR-CALDESC:Events for The BRIGHT
BEGIN:VEVENT
DTSTART;TZID=UTC+0:20240628T130000
DTEND;TZID=UTC+0:20240630T210000
DTSTAMP:20260421T212236
CREATED:20240531T042426
LAST-MODIFIED:20240531T042709
UID:10723-1719579600-1719781200@www.thebright.co.th
SUMMARY:Chill Market
DESCRIPTION:"THE BRIGHT CHILL & MARKET" พบกับสินค้านานาชนิดและเพลิดเพลินไปกับเสียงดนตรี วันที่ 28-30 มิถุนายน 2567 เวลา 13.00-21.00 น. Chill กันได้ทุกวันศุกร์-เสาร์ และวันอาทิตย์ สิ้นเดือน! ณ ลานกิจกรรม ชั้น G เดอะไบรท์ คอมมูนิตี้มอลล์ พระราม 2
URL:https://www.thebright.co.th/event/chill-market-5/
LOCATION:15/6 Rama2 Rd.\,\, Thakarm\, Bangkhunthian\,\, Bangkok \, 10110\, Thailand
CATEGORIES:2024
ATTACH;FMTTYPE=image/jpeg:https://www.thebright.co.th/wp-content/uploads/Chill-Market-June2024.jpg
END:VEVENT
END:VCALENDAR