BEGIN:VCALENDAR
VERSION:2.0
PRODID:-//The BRIGHT - ECPv4.2.5//NONSGML v1.0//EN
CALSCALE:GREGORIAN
METHOD:PUBLISH
X-WR-CALNAME:The BRIGHT
X-ORIGINAL-URL:https://www.thebright.co.th
X-WR-CALDESC:Events for The BRIGHT
BEGIN:VEVENT
DTSTART;TZID=UTC+0:20240223T100000
DTEND;TZID=UTC+0:20240225T200000
DTSTAMP:20260422T052812
CREATED:20240130T073312
LAST-MODIFIED:20240130T073317
UID:10546-1708682400-1708891200@www.thebright.co.th
SUMMARY:Chill Market
DESCRIPTION:"THE BRIGHT CHILL MARKET" พบกับสินค้านานาชนิด และเพลิดเพลินไปกับเสียงดนตรี Chill กันได้ทุกวันศุกร์ - วันอาทิตย์ สิ้นเดือน ณ ลานกิจกรรม ชั้น G
URL:https://www.thebright.co.th/event/chill-market-2/
LOCATION:15/6 Rama2 Rd.\,\, Thakarm\, Bangkhunthian\,\, Bangkok \, 10110\, Thailand
CATEGORIES:2024
ATTACH;FMTTYPE=image/jpeg:https://www.thebright.co.th/wp-content/uploads/Chill-Market.jpg
END:VEVENT
END:VCALENDAR