BEGIN:VCALENDAR
VERSION:2.0
PRODID:-//The BRIGHT - ECPv4.2.5//NONSGML v1.0//EN
CALSCALE:GREGORIAN
METHOD:PUBLISH
X-WR-CALNAME:The BRIGHT
X-ORIGINAL-URL:https://www.thebright.co.th
X-WR-CALDESC:Events for The BRIGHT
BEGIN:VEVENT
DTSTART;TZID=UTC+0:20230302T100000
DTEND;TZID=UTC+0:20230331T210000
DTSTAMP:20260425T040448
CREATED:20230313T065319
LAST-MODIFIED:20230313T065515
UID:10104-1677751200-1680296400@www.thebright.co.th
SUMMARY:Brand Name Grand Sale
DESCRIPTION:"BRAND NAME GRAND SALE"  วันที่ 2-31 มีนาคม 2023 ช้อปกระจายกับมหกรรมสินค้า BRAND NAME มากมาย อาทิ Sabina\, Baoji\, ศรีไทย ฯลฯ  By : ACC GROUP บริเวณลานกิจกรรม ชั้น G เดอะไบรท์ คอมมูนิตี้มอลล์
URL:https://www.thebright.co.th/event/brand-name-grand-sale/
LOCATION:15/6 Rama2 Rd.\,\, Thakarm\, Bangkhunthian\,\, Bangkok \, 10110\, Thailand
CATEGORIES:2023
ATTACH;FMTTYPE=image/jpeg:https://www.thebright.co.th/wp-content/uploads/TokyoHungu.jpg
END:VEVENT
END:VCALENDAR