BEGIN:VCALENDAR
VERSION:2.0
PRODID:-//The BRIGHT - ECPv4.2.5//NONSGML v1.0//EN
CALSCALE:GREGORIAN
METHOD:PUBLISH
X-WR-CALNAME:The BRIGHT
X-ORIGINAL-URL:https://www.thebright.co.th
X-WR-CALDESC:Events for The BRIGHT
BEGIN:VEVENT
DTSTART;TZID=UTC+0:20230801T110000
DTEND;TZID=UTC+0:20230801T150000
DTSTAMP:20260423T055944
CREATED:20230726T071629
LAST-MODIFIED:20230726T072052
UID:10276-1690887600-1690902000@www.thebright.co.th
SUMMARY:Blood Dontion
DESCRIPTION:"THE BRIGHT ขอเชิญร่วมบริจาคโลหิต" ศูนย์การค้าเดอะไบรท์ ร่วมกับสภากาชาดไทย พบกันทุกวันอังคารแรกของเดือน อังคารที่ 1 สิงหาคม 66 เวลา 11.00 - 15.00 น. ณ ลานกิจกรรม ชั้น G สอบถามรายละเอียด โทร. 099 446 4626
URL:https://www.thebright.co.th/event/blood-dontion/
LOCATION:15/6 Rama2 Rd.\,\, Thakarm\, Bangkhunthian\,\, Bangkok \, 10110\, Thailand
CATEGORIES:2023
ATTACH;FMTTYPE=image/jpeg:https://www.thebright.co.th/wp-content/uploads/Blood-Donation_Aug_66.jpg
END:VEVENT
END:VCALENDAR