BEGIN:VCALENDAR
VERSION:2.0
PRODID:-//The BRIGHT - ECPv4.2.5//NONSGML v1.0//EN
CALSCALE:GREGORIAN
METHOD:PUBLISH
X-WR-CALNAME:The BRIGHT
X-ORIGINAL-URL:https://www.thebright.co.th
X-WR-CALDESC:Events for The BRIGHT
BEGIN:VEVENT
DTSTART;TZID=UTC+0:20220723T110000
DTEND;TZID=UTC+0:20220723T150000
DTSTAMP:20260424T154137
CREATED:20220712T101030
LAST-MODIFIED:20220712T101218
UID:9792-1658574000-1658588400@www.thebright.co.th
SUMMARY:Blood Donation
DESCRIPTION:"THE BRIGHT ขอเชิญร่วมบริจาคโลหิต" ศูนย์การค้าเดอะไบรท์ ร่วมกับสภากาชาดไทย เสาร์ที่ 23 กรกฏาคม 65 เวลา 11.00 - 15.00 น. ณ ลานกิจกรรม ชั้น G สอบถามรายละเอียด โทร. 099 446 4626
URL:https://www.thebright.co.th/event/blood-donation-9/
LOCATION:15/6 Rama2 Rd.\,\, Thakarm\, Bangkhunthian\,\, Bangkok \, 10110\, Thailand
CATEGORIES:2022
ATTACH;FMTTYPE=image/jpeg:https://www.thebright.co.th/wp-content/uploads/BloodDonatin65.jpg
END:VEVENT
END:VCALENDAR