BEGIN:VCALENDAR
VERSION:2.0
PRODID:-//The BRIGHT - ECPv4.2.5//NONSGML v1.0//EN
CALSCALE:GREGORIAN
METHOD:PUBLISH
X-WR-CALNAME:The BRIGHT
X-ORIGINAL-URL:https://www.thebright.co.th
X-WR-CALDESC:Events for The BRIGHT
BEGIN:VEVENT
DTSTART;TZID=UTC+0:20241102T110000
DTEND;TZID=UTC+0:20241102T150000
DTSTAMP:20260421T231122
CREATED:20241030T085641
LAST-MODIFIED:20241030T085752
UID:10904-1730545200-1730559600@www.thebright.co.th
SUMMARY:Blood Donation
DESCRIPTION:"THE BRIGHT ขอเชิญชวนทุกท่านมาบริจาคโลหิต" ศูนย์การค้าเดอะไบรท์ ร่วมกับสภากาชาดไทย วันเสาร์ที่ 2 พฤศจิกายน 2567 เวลา 11.00 - 15.00 น. ณ ลานกิจกรรม ชั้น G สอบถามรายละเอียด โทร. 099 446 4626  "พบกันทุกวันเสาร์แรกของทุก 3 เดือน"
URL:https://www.thebright.co.th/event/blood-donation-21/
LOCATION:15/6 Rama2 Rd.\,\, Thakarm\, Bangkhunthian\,\, Bangkok \, 10110\, Thailand
CATEGORIES:2024
ATTACH;FMTTYPE=image/jpeg:https://www.thebright.co.th/wp-content/uploads/Blood-Donaton_Nov67.jpg
END:VEVENT
END:VCALENDAR