BEGIN:VCALENDAR
VERSION:2.0
PRODID:-//The BRIGHT - ECPv4.2.5//NONSGML v1.0//EN
CALSCALE:GREGORIAN
METHOD:PUBLISH
X-WR-CALNAME:The BRIGHT
X-ORIGINAL-URL:https://www.thebright.co.th
X-WR-CALDESC:Events for The BRIGHT
BEGIN:VEVENT
DTSTART;TZID=UTC+0:20240504T110000
DTEND;TZID=UTC+0:20240504T150000
DTSTAMP:20260422T005154
CREATED:20240430T081849
LAST-MODIFIED:20240430T082113
UID:10665-1714820400-1714834800@www.thebright.co.th
SUMMARY:Blood Donation
DESCRIPTION:"THE BRIGHT ขอเชิญชวนทุกท่านมาบริจาคโลหิต" ศูนย์การค้าเดอะไบรท์ ร่วมกับสภากาชาดไทย วันเสาร์ที่ 4 พฤษภาคม 2567 เวลา 11.00 - 15.00 น. ณ ลานกิจกรรม ชั้น G สอบถามรายละเอียด โทร. 099 446 4626  "พบกันทุกวันเสาร์แรกของทุก 3 เดือน"
URL:https://www.thebright.co.th/event/blood-donation-19/
LOCATION:15/6 Rama2 Rd.\,\, Thakarm\, Bangkhunthian\,\, Bangkok \, 10110\, Thailand
CATEGORIES:2024
ATTACH;FMTTYPE=image/jpeg:https://www.thebright.co.th/wp-content/uploads/Blood-Donaton_May67.jpg
END:VEVENT
END:VCALENDAR